BEGIN:VCALENDAR
VERSION:2.0
PRODID:-//Library Market//iCal Export//EN
BEGIN:VEVENT
SUMMARY:Mommy, Mud &amp; Me
UID:1555
DTSTAMP:20260422T114400Z
DTSTART:20260811T153000Z
DTEND:20260811T163000Z
LOCATION:Carnegie One Braddock, 419 Library St, Braddock, PA 15104, United
  States
ROOM: Bathhouse Ceramics Studio - B09
DESCRIPTION:Get ready to get messy and creative! A hands-on ceramics progr
 am designed for caregivers &amp; young children to explore the fun of work
 ing with clay together. Through playful projects, little artists will squi
 sh, shape, and sculpt while strengthening fine motor skills and bonding wi
 th their grown-ups. No experience needed—just a willingness to get muddy
  and make memories! Ages 3-9 with adult caregiver. 
URL:https://braddock.librarycalendar.com/event/mommy-mud-me-1555
END:VEVENT
END:VCALENDAR
