BEGIN:VCALENDAR
VERSION:2.0
PRODID:-//Library Market//iCal Export//EN
BEGIN:VEVENT
SUMMARY:Adult Wheel Throwing
UID:1537
DTSTAMP:20260422T114400Z
DTSTART:20260819T200000Z
DTEND:20260819T210000Z
LOCATION:Carnegie One Braddock, 419 Library St, Braddock, PA 15104, United
  States
ROOM: Bathhouse Ceramics Studio - B09
DESCRIPTION:Whether you&#039;re a beginner or an experienced potter, this 
 is your chance to play with clay, explore new techniques, and connect with
  a creative community. Tools, clay, glaze, kiln firing included – just b
 ring your imagination! If you live in our service area 15104, 15112, or 1
 5145 your registration is no cost but you still have to register! Please e
 mail allison@thebcla.org and submit your name, phone number and email addr
 ess with the time you&#039;d like to come.  For those members outside our
  service area use this registration form.  There is a $10 per hour per wh
 eel fee.Wheels are on a first come first served bases for those who regist
 er.Can’t make it?  We kindly ask that you cancel your registration as s
 oon as possible so that another potter can reserve that slot.Thank you for
  helping us keep the studio running smoothly for everyone!
URL:https://braddock.librarycalendar.com/event/adult-wheel-throwing-1537
END:VEVENT
END:VCALENDAR
