BEGIN:VCALENDAR
VERSION:2.0
PRODID:-//Library Market//iCal Export//EN
BEGIN:VEVENT
SUMMARY:Adult Wheel Throwing
UID:1523
DTSTAMP:20260422T114400Z
DTSTART:20260603T210000Z
DTEND:20260603T220000Z
LOCATION:Carnegie One Braddock, 419 Library St, Braddock, PA 15104, United
  States
ROOM: BCS Mini Studio - B01
DESCRIPTION:Reserve a wheel per hour only.  Join us for a relaxed, hands-
 on ceramics open studio! Whether you&#039;re a beginner or an experienced 
 potter, this is your chance to play with clay, explore new techniques, and
  connect with a creative community. Tools, clay, glaze, kiln firing includ
 ed – just bring your imagination! Adult Open Studio Wheel Throwing sess
 ions:Cost: $10 per hour per wheelThis change will help make sure everyone 
 gets time on the wheel and can plan their sessions more easily.*****If you
  live in our service area 15104, 15112, or 15145 your registration is no c
 ost but you still have to register! Please email allison@thebcla.org and s
 ubmit your name, phone number and email address with the time you&#039;d l
 ike to come.  Wheels are on a first come first served bases for registran
 ts only!!!   Can’t make it?  We kindly ask that you cancel your regis
 tration as soon as possible so that another potter can reserve that slot.T
 hank you for helping us keep the studio running smoothly for everyone!
URL:https://braddock.librarycalendar.com/event/adult-wheel-throwing-1523
END:VEVENT
END:VCALENDAR
