BEGIN:VCALENDAR
VERSION:2.0
PRODID:-//Library Market//iCal Export//EN
BEGIN:VEVENT
SUMMARY:Remake Learning Days 5/9 and 5/16
UID:1491
DTSTAMP:20260422T114400Z
DTSTART:20260509T170000Z
DTEND:20260509T200000Z
LOCATION:Carnegie One Braddock, 419 Library St, Braddock, PA 15104, United
  States
ROOM: Fab Lab
DESCRIPTION:Join us for this environmentally friendly event as we work tog
 ether to turn trash into treasure and transform cleanup into creativity!Ca
 rnegie One Braddock is partnering with municipalities across our service a
 rea to add a creative twist to their annual spring cleanup days by gamifyi
 ng litter pickup. Community members will be encouraged to collect not only
  trash, but also unique, colorful, or interesting items they discover alon
 g the way—setting aside special finds for a larger creative purpose. The
 se cleanup efforts will take place in the weeks leading up to our Trash to
  Treasure event on May 9.Carnegie One will gather the collected objects an
 d invite the community to transform them into a collaborative piece of pub
 lic art during two hands-on sessions on May 9 and May 16. Participants fro
 m outside the immediate area are also welcome to contribute by bringing th
 eir own found materials to incorporate into the project.The first session 
 will focus on creative design, as participants work together to envision a
 nd plan a mosaic inspired by the collected materials. During the second se
 ssion, the group will assemble and install the final piece, bringing the s
 hared vision to life. The completed artwork will be displayed at Carnegie 
 One in Braddock as a celebration of community, sustainability, and creativ
 e reuse.
URL:https://braddock.librarycalendar.com/event/remake-learning-days-59-and
 -516-1491
END:VEVENT
END:VCALENDAR
