BEGIN:VCALENDAR
VERSION:2.0
PRODID:-//Library Market//iCal Export//EN
BEGIN:VEVENT
SUMMARY:North Braddock Cleanup Day
UID:1490
DTSTAMP:20260422T114400Z
DTSTART:20260502T130000Z
DTEND:20260502T160000Z
LOCATION:Carnegie One, Recycle Park (corner of Bell and Verona), BRADDOCK,
  PA 15104, United States
ROOM: North Braddock Cleanup Day
DESCRIPTION:Have fun as you help out in your community!We&#039;ll play gam
 es as we pick up litter. All ages welcome! Bring a team, or form one when 
 we meet at Recycle Park (corner of Bell and Verona) at 9:00am!We will also
  collect cool, non-gross, non-hazardous pieces of litter for our community
  art installation! We will come together as a community to create somethin
 g beautiful from something unsightly. Join us for either (or both)Remake L
 earning Day events here at Carnegie One on 5/9 and 5/16! Follow us on soci
 al media for more details as these dates get closer!
URL:https://braddock.librarycalendar.com/event/north-braddock-cleanup-day-
 1490
END:VEVENT
END:VCALENDAR
